BEGIN:VCALENDAR
VERSION:2.0
PRODID:-//Montina for McDonough | Montina Young Fraiser, Your Neighbor - ECPv6.15.0//NONSGML v1.0//EN
CALSCALE:GREGORIAN
METHOD:PUBLISH
X-WR-CALNAME:Montina for McDonough | Montina Young Fraiser, Your Neighbor
X-ORIGINAL-URL:https://www.montinaformcdonough.com
X-WR-CALDESC:Events for Montina for McDonough | Montina Young Fraiser, Your Neighbor
REFRESH-INTERVAL;VALUE=DURATION:PT1H
X-Robots-Tag:noindex
X-PUBLISHED-TTL:PT1H
BEGIN:VTIMEZONE
TZID:UTC
BEGIN:STANDARD
TZOFFSETFROM:+0000
TZOFFSETTO:+0000
TZNAME:UTC
DTSTART:20250101T000000
END:STANDARD
END:VTIMEZONE
BEGIN:VEVENT
DTSTART;TZID=UTC:20251014T170000
DTEND;TZID=UTC:20251014T200000
DTSTAMP:20260421T132428
CREATED:20251014T210923Z
LAST-MODIFIED:20251014T210923Z
UID:916-1760461200-1760472000@www.montinaformcdonough.com
SUMMARY:The Mayor’s Roundtable
DESCRIPTION:Join Montina at The Mayor’s Roundtable \nStraight facts. Honest conversation. Good governance in action. \nMcDonough’s Mayor — sits down with some of the city’s biggest community groups to clear up misinformation\, talk about her vision for the future\, and highlight what open\, honest leadership looks like \n✨ Join us for this powerful community conversation where your questions lead the dialogue. It’s a chance to connect\, learn\, and be part of shaping McDonough’s future together. \n📅 Date: Tuesday\, October 14\, 2025🕔 Time: 5:00–8:00 PM📍 Location: Building 140 (140 John Frank Ward Blvd\, McDonough\, GA 30253) \n✅ Everyone is welcome!Come ready to engage\, ask questions\, and take part in a dialogue that moves our community forward.
URL:https://www.montinaformcdonough.com/event/the-mayors-roundtable/
LOCATION:Building 140\, 140 John Frank Ward Blvd\, McDonough\, GA\, 30253\, United States
ATTACH;FMTTYPE=image/jpeg:https://www.montinaformcdonough.com/wp-content/uploads/2025/10/Mayor-roundtable.jpg
END:VEVENT
BEGIN:VEVENT
DTSTART;TZID=UTC:20251014T170000
DTEND;TZID=UTC:20251014T200000
DTSTAMP:20260421T132428
CREATED:20251014T221639Z
LAST-MODIFIED:20251014T221639Z
UID:918-1760461200-1760472000@www.montinaformcdonough.com
SUMMARY:Join Montina at The Mayor’s Roundtable
DESCRIPTION:The Mayor’s Roundtable \nStraight facts. Honest conversation. Good governance in action. \nMcDonough’s Mayor —sits down with some of the city’s biggest community groups to clear up misinformation\, talk about her vision for the future\, and highlight what open\, honest leadership looks like. \n✨ Join Montina for this powerful community conversation where your questions lead the dialogue. It’s a chance to connect\, learn\, and be part of shaping McDonough’s future together. \n📅 Date: Tuesday\, October 14\, 2025🕔 Time: 5:00–8:00 PM📍 Location: Building 140 (140 John Frank Ward Blvd\, McDonough\, GA 30253) \n✅ Everyone is welcome!Come ready to engage\, ask questions\, and take part in a dialogue that moves our community forward.
URL:https://www.montinaformcdonough.com/event/join-montina-at-the-mayors-roundtable/
LOCATION:Building 140\, 140 John Frank Ward Blvd\, McDonough\, GA\, 30253\, United States
ATTACH;FMTTYPE=image/jpeg:https://www.montinaformcdonough.com/wp-content/uploads/2025/10/Mayor-roundtable.jpg
END:VEVENT
END:VCALENDAR