BEGIN:VCALENDAR
VERSION:2.0
PRODID:-//Montina for McDonough | Montina Young Fraiser, Your Neighbor - ECPv6.15.0//NONSGML v1.0//EN
CALSCALE:GREGORIAN
METHOD:PUBLISH
X-ORIGINAL-URL:https://www.montinaformcdonough.com
X-WR-CALDESC:Events for Montina for McDonough | Montina Young Fraiser, Your Neighbor
REFRESH-INTERVAL;VALUE=DURATION:PT1H
X-Robots-Tag:noindex
X-PUBLISHED-TTL:PT1H
BEGIN:VTIMEZONE
TZID:UTC
BEGIN:STANDARD
TZOFFSETFROM:+0000
TZOFFSETTO:+0000
TZNAME:UTC
DTSTART:20250101T000000
END:STANDARD
END:VTIMEZONE
BEGIN:VEVENT
DTSTART;TZID=UTC:20251004T130000
DTEND;TZID=UTC:20251004T150000
DTSTAMP:20260422T181640
CREATED:20251003T030528Z
LAST-MODIFIED:20251003T030528Z
UID:625-1759582800-1759590000@www.montinaformcdonough.com
SUMMARY:Ultimate Baby Shower
DESCRIPTION:Connecting Henry is hosting the Ultimate Baby Shower\, a community resource fair! \nDate: Saturday\, October 4\, 2025 \nTime: 1PM-3PM \nLocation: Henry County Learning & Support Center \n166 Holly Smith Drive\, McDonough\, GA 30253 \nFree diapers\, baby supplies\, health information\, resources\, games\, and raffles – While supplies last \nAnd for dad join in for the Daddy Olympics!
URL:https://www.montinaformcdonough.com/event/ultimate-baby-shower/
LOCATION:Henry County Learning & Support Center\, 166 Holly Smith Drive\, McDonough\, GA\, 30253\, United States
ATTACH;FMTTYPE=image/jpeg:https://www.montinaformcdonough.com/wp-content/uploads/2025/10/Community-Babyshower.jpg
END:VEVENT
END:VCALENDAR