BEGIN:VCALENDAR
VERSION:2.0
PRODID:-//Montina for McDonough | Montina Young Fraiser, Your Neighbor - ECPv6.15.0//NONSGML v1.0//EN
CALSCALE:GREGORIAN
METHOD:PUBLISH
X-WR-CALNAME:Montina for McDonough | Montina Young Fraiser, Your Neighbor
X-ORIGINAL-URL:https://www.montinaformcdonough.com
X-WR-CALDESC:Events for Montina for McDonough | Montina Young Fraiser, Your Neighbor
REFRESH-INTERVAL;VALUE=DURATION:PT1H
X-Robots-Tag:noindex
X-PUBLISHED-TTL:PT1H
BEGIN:VTIMEZONE
TZID:UTC
BEGIN:STANDARD
TZOFFSETFROM:+0000
TZOFFSETTO:+0000
TZNAME:UTC
DTSTART:20250101T000000
END:STANDARD
END:VTIMEZONE
BEGIN:VEVENT
DTSTART;TZID=UTC:20251029T103000
DTEND;TZID=UTC:20251029T113000
DTSTAMP:20260421T174427
CREATED:20251003T031506Z
LAST-MODIFIED:20251003T031506Z
UID:628-1761733800-1761737400@www.montinaformcdonough.com
SUMMARY:The Malachi House Ribbon Cutting Celebration
DESCRIPTION:Welcome to The Malachi House Ribbon Cutting Celebration! \nWe cordially invite you to a special ribbon-cutting ceremony for The Malachi House\, located at 312 Rogers St. The Malachi House is a two-story\, 6\,000 sq. ft. facility envisioned as an Epic Center for Christ\, designed to be a safe environment for spiritual growth\, educational enrichment\, and community outreach programs. The grand opening of the Malachi House represents not just the unveiling of a new building\, but the realization of a long-held vision to create a centralized\, welcoming space where faith\, fellowship\, and service can flourish. We hope you will join us for this significant community celebration. \nDate and time\nWednesday\, October 29 · 10:30 – 11:30am EDT\nLocation\n312 Rogers Street McDonough\, GA 30253
URL:https://www.montinaformcdonough.com/event/the-malachi-house-ribbon-cutting-celebration/
LOCATION:Malachi House\, 312 Rogers St\, McDonough\, GA\, 30253\, United States
ATTACH;FMTTYPE=image/jpeg:https://www.montinaformcdonough.com/wp-content/uploads/2025/10/Ribbon-Cutting.jpg
END:VEVENT
END:VCALENDAR