BEGIN:VCALENDAR
VERSION:2.0
PRODID:-//Montina for McDonough | Montina Young Fraiser, Your Neighbor - ECPv6.15.0//NONSGML v1.0//EN
CALSCALE:GREGORIAN
METHOD:PUBLISH
X-ORIGINAL-URL:https://www.montinaformcdonough.com
X-WR-CALDESC:Events for Montina for McDonough | Montina Young Fraiser, Your Neighbor
REFRESH-INTERVAL;VALUE=DURATION:PT1H
X-Robots-Tag:noindex
X-PUBLISHED-TTL:PT1H
BEGIN:VTIMEZONE
TZID:UTC
BEGIN:STANDARD
TZOFFSETFROM:+0000
TZOFFSETTO:+0000
TZNAME:UTC
DTSTART:20250101T000000
END:STANDARD
END:VTIMEZONE
BEGIN:VEVENT
DTSTART;TZID=UTC:20251031T130000
DTEND;TZID=UTC:20251031T170000
DTSTAMP:20260421T205445
CREATED:20251031T150320Z
LAST-MODIFIED:20251031T150320Z
UID:988-1761915600-1761930000@www.montinaformcdonough.com
SUMMARY:Trick or Treat on the Square 👻
DESCRIPTION:Trick or Treat on the Square 👻Date: Thursday\, October 31\, 2025 | 1:00 PM – 5:00 PMLocation: McDonough Square \nDescription:Get ready for a spooktacular time in the heart of McDonough! Bring your family to Trick or Treat on the Square from 3 PM to 5 PM today! \nThere will be tons of candy\, smiling faces\, and festive fun for the whole family. Let’s celebrate Halloween together in true community spirit — full of laughter\, costumes\, and sweet treats! \n🎃 Come early\, bring a bag for treats\, and enjoy the fun downtown energy! \n#MontinaForMcDonough #MontinaYoungFraiser📸 Don’t forget to tag us on social media!👉 Instagram👉 Facebook👉 YouTube
URL:https://www.montinaformcdonough.com/event/trick-or-treat-on-the-square-%f0%9f%91%bb/
LOCATION:McDonough Square\, 5 Griffin Street\, McDonough\, GA\, 30253\, United States
ATTACH;FMTTYPE=image/jpeg:https://www.montinaformcdonough.com/wp-content/uploads/2025/10/halloween-square.jpg
END:VEVENT
END:VCALENDAR