BEGIN:VCALENDAR
VERSION:2.0
PRODID:-//Montina for McDonough | Montina Young Fraiser, Your Neighbor - ECPv6.15.0//NONSGML v1.0//EN
CALSCALE:GREGORIAN
METHOD:PUBLISH
X-WR-CALNAME:Montina for McDonough | Montina Young Fraiser, Your Neighbor
X-ORIGINAL-URL:https://www.montinaformcdonough.com
X-WR-CALDESC:Events for Montina for McDonough | Montina Young Fraiser, Your Neighbor
REFRESH-INTERVAL;VALUE=DURATION:PT1H
X-Robots-Tag:noindex
X-PUBLISHED-TTL:PT1H
BEGIN:VTIMEZONE
TZID:UTC
BEGIN:STANDARD
TZOFFSETFROM:+0000
TZOFFSETTO:+0000
TZNAME:UTC
DTSTART:20250101T000000
END:STANDARD
END:VTIMEZONE
BEGIN:VEVENT
DTSTART;TZID=UTC:20251023T180000
DTEND;TZID=UTC:20251023T200000
DTSTAMP:20260423T142628
CREATED:20251016T174621Z
LAST-MODIFIED:20251016T174621Z
UID:925-1761242400-1761249600@www.montinaformcdonough.com
SUMMARY:🍷 Toasting for Charity w/ Montina
DESCRIPTION:Hosted by Georgian Gallery \nSponsored by NAIL Heating and Air Conditioning \nJoin us for an evening of wine\, charcuterie\, art\, and community — all for a wonderful cause! Georgian Gallery’s Toasting for Charity brings people together to celebrate creativity and generosity while supporting local non-profits. \nThis month’s proceeds will benefit the McDonough Woman’s Club\, an organization dedicated to service and community impact. \n🎟️ Entry: $15 at the door (cash\, check\, or app)💯 100% of proceeds go to the McDonough Woman’s Club \n🗓️ Date: Thursday\, October 23\, 2025🕕 Time: 6:00 PM – 8:00 PM📍 Location: 10 Macon Street\, McDonough\, GA 30253📞 Contact: 678.583.1222🌐 georgian-gallery.com \nCome raise a glass\, connect with friends\, and toast to a good cause!
URL:https://www.montinaformcdonough.com/event/%f0%9f%8d%b7-toasting-for-charity-w-montina/
LOCATION:Georgian Gallery\, 10 Macon Street\, McDonough\, GA\, 30253\, United States
ATTACH;FMTTYPE=image/png:https://www.montinaformcdonough.com/wp-content/uploads/2025/10/toasting-for-charity.png
END:VEVENT
END:VCALENDAR