BEGIN:VCALENDAR
VERSION:2.0
PRODID:-//Montina for McDonough | Montina Young Fraiser, Your Neighbor - ECPv6.15.0//NONSGML v1.0//EN
CALSCALE:GREGORIAN
METHOD:PUBLISH
X-WR-CALNAME:Montina for McDonough | Montina Young Fraiser, Your Neighbor
X-ORIGINAL-URL:https://www.montinaformcdonough.com
X-WR-CALDESC:Events for Montina for McDonough | Montina Young Fraiser, Your Neighbor
REFRESH-INTERVAL;VALUE=DURATION:PT1H
X-Robots-Tag:noindex
X-PUBLISHED-TTL:PT1H
BEGIN:VTIMEZONE
TZID:UTC
BEGIN:STANDARD
TZOFFSETFROM:+0000
TZOFFSETTO:+0000
TZNAME:UTC
DTSTART:20250101T000000
END:STANDARD
END:VTIMEZONE
BEGIN:VEVENT
DTSTART;TZID=UTC:20251009T170000
DTEND;TZID=UTC:20251009T200000
DTSTAMP:20260421T222610
CREATED:20251003T034525Z
LAST-MODIFIED:20251003T034525Z
UID:637-1760029200-1760040000@www.montinaformcdonough.com
SUMMARY:Ladies Night Out - Around the Square
DESCRIPTION:It’s Ladies’ Night Out… bring your girls (or ya boo) too!!Ladies! See you here on the McDonough Square for our October Breast Cancer Awareness Ladies Night Out! Make a night of it and enjoy our Restaurants and Shops and come out to the Square for music\, giveaways\, and raffles for gift baskets. Aylo Health will be here with a special guest speaker Dr. Regan Frake MD! We will have Dr. Maggie from Chiropractor on the Square! Different vendors for ladies’ health and beauty will be here as well! Come out take part in the Event\, we’re Looking forward to seeing you there! \nDate: Thursday\, October 9\, 2025 \nTime: 5PM-8PM \nLocation: 5 Griffin St\, McDonough\, GA 30253-3140\, United States
URL:https://www.montinaformcdonough.com/event/ladies-night-out-around-the-square/
LOCATION:McDonough Square\, 5 Griffin Street\, McDonough\, GA\, 30253\, United States
ATTACH;FMTTYPE=image/jpeg:https://www.montinaformcdonough.com/wp-content/uploads/2025/10/Ladies-Night.jpg
END:VEVENT
END:VCALENDAR