BEGIN:VCALENDAR
VERSION:2.0
PRODID:-//Montina for McDonough | Montina Young Fraiser, Your Neighbor - ECPv6.15.0//NONSGML v1.0//EN
CALSCALE:GREGORIAN
METHOD:PUBLISH
X-WR-CALNAME:Montina for McDonough | Montina Young Fraiser, Your Neighbor
X-ORIGINAL-URL:https://www.montinaformcdonough.com
X-WR-CALDESC:Events for Montina for McDonough | Montina Young Fraiser, Your Neighbor
REFRESH-INTERVAL;VALUE=DURATION:PT1H
X-Robots-Tag:noindex
X-PUBLISHED-TTL:PT1H
BEGIN:VTIMEZONE
TZID:UTC
BEGIN:STANDARD
TZOFFSETFROM:+0000
TZOFFSETTO:+0000
TZNAME:UTC
DTSTART:20250101T000000
END:STANDARD
END:VTIMEZONE
BEGIN:VEVENT
DTSTART;TZID=UTC:20251101T080000
DTEND;TZID=UTC:20251101T170000
DTSTAMP:20260421T175508
CREATED:20251031T152345Z
LAST-MODIFIED:20251031T152345Z
UID:990-1761984000-1762016400@www.montinaformcdonough.com
SUMMARY:Fall Festival on the Square 🍂
DESCRIPTION:Join Montina at the Fall Festival! \nDate: Saturday\, November 1\, 2025 | 12:00 PM – 4:00 PMLocation: McDonough Square \nDescription:Celebrate the season with us at the McDonough Fall Festival — a fun-filled afternoon for all ages! 🌻 \n🎶 Enjoy live entertainment\, local vendors\, family activities\, and autumn treats from 12 PM to 4 PM on the Square.🏆 Don’t miss the Scarecrow Contest Winners announcement at 2 PM — come cheer for your favorites and support our creative community! \nIt’s all about connection\, celebration\, and community pride. 🍂 \n#MontinaForMcDonough #MontinaYoungFraiser📸 Tag and follow us online:👉 Instagram👉 Facebook👉 YouTube
URL:https://www.montinaformcdonough.com/event/fall-festival-on-the-square-%f0%9f%8d%82/
LOCATION:McDonough Square\, 5 Griffin Street\, McDonough\, GA\, 30253\, United States
ATTACH;FMTTYPE=image/jpeg:https://www.montinaformcdonough.com/wp-content/uploads/2025/10/fall-festival.jpg
END:VEVENT
BEGIN:VEVENT
DTSTART;TZID=UTC:20251102T150000
DTEND;TZID=UTC:20251102T170000
DTSTAMP:20260421T175508
CREATED:20251028T230348Z
LAST-MODIFIED:20251028T230348Z
UID:965-1762095600-1762102800@www.montinaformcdonough.com
SUMMARY:Pizza Party Celebration with Montina for McDonough!
DESCRIPTION:Let’s come together to celebrate with Montina at our Pizza Party in McDonough!\n\n\n\nJoin us this Sunday for a Pizza Party Celebration at DaVinci’s NY Style Pizza right here in McDonough! This is our time to come together\, relax\, and celebrate all the hard work\, heart\, and community spirit that’s gone into this campaign. \n📅 Date: Sunday\, November 2\, 2025\n🕒 Time: 3:00 PM – 5:00 PM\n📍 Location: DaVinci’s NY Style Pizza\, McDonough\, GA \nBring your family\, friends\, and neighbors — everyone is welcome! Come enjoy great pizza\, good company\, and positive conversation about how we can keep building a better McDonough\, together. 🌺 \n🍕 What to Expect: \n\nFree pizza and refreshments\nMeet Montina Young Fraiser and fellow community members\nFun\, connection\, and celebration for all ages\n\n✅ RSVP is required so we can plan for plenty of pizza! \nhttps://www.eventbrite.com/e/pizza-party-celebration-with-montina-for-mcdonough-tickets-1902273203359?utm-campaign=social&utm-content=attendeeshare&utm-medium=discovery&utm-term=listing&utm-source=cp&aff=ebdsshcopyurl \nLet’s finish this campaign strong — with community\, gratitude\, and a slice (or two) of celebration.
URL:https://www.montinaformcdonough.com/event/pizza-party-celebration-with-montina-for-mcdonough/
LOCATION:DaVinci’s Pizza\, 1035 GA-155 S\, McDonough\, GA\, 30253\, United States
ATTACH;FMTTYPE=image/jpeg:https://www.montinaformcdonough.com/wp-content/uploads/2025/10/IMG_4823-scaled.jpg
END:VEVENT
BEGIN:VEVENT
DTSTART;TZID=UTC:20251104T183000
DTEND;TZID=UTC:20251104T203000
DTSTAMP:20260421T175508
CREATED:20251103T194701Z
LAST-MODIFIED:20251103T194701Z
UID:1026-1762281000-1762288200@www.montinaformcdonough.com
SUMMARY:🍕 Final Pizza Party & Election Night Celebration at DaVinci’s!
DESCRIPTION:Join us at DaVinci’s Pizza for our Final Pizza Party & Election Night Celebration! We’re celebrating the journey\, the community\, and the incredible support that brought us here!🍕\n\n\n\n\n\n\nAs we watch the polls and reflect on this incredible journey\, we’re gathering for an evening of community\, connection\, and gratitude. Dinner will be served buffet style\, and additional purchases — including beverages and alcohol — will be at the guest’s expense. \nAs the polls close and results come in\, we’re gathering for one final evening of food\, fellowship\, and reflection. \nThis celebration is more than an election watch party — it’s a moment to thank everyone who’s helped make this campaign possible. \nIn every campaign training\, we were reminded: We either win\, or we learn.\nOur goal is to win — yet\, if we learn\, the work doesn’t stop. \nWhether we’re celebrating a victory or preparing for what’s next\, this is a win for all of us. Because every conversation\, every volunteer\, and every act of support helped us move one step closer to building a better McDonough\, together. \nEvent Details:\n📅 Date: Monday\, November 4\, 2025\n🕒 Time: 6:30 PM – Until the Results Are In\n📍 Location: DaVinci’s NY Style Pizza\, McDonough\, GA \n🎟️ Tickets Admission: $5 Donation at the Door \nWe’re asking for a small $5 donation to secure your ticket and confirm your attendance.\nYour contribution helps cover event costs and supports our ongoing community engagement efforts. \n🍕 Dinner will be served buffet style. \nAdditional purchases\, including beverages and alcohol\, will be at the guest’s own expense. \n🎟️ Seating is limited — reserve your spot early to celebrate with us! \nRSVP: https://www.eventbrite.com/e/final-pizza-party-election-night-celebration-at-davincis-tickets-1956057423409?utm-campaign=social&utm-content=attendeeshare&utm-medium=discovery&utm-term=listing&utm-source=cp&aff=ebdsshcopyurl \n🍕 What to Expect: \n\nPizza\, community\, and celebration\nBuffet-style dinner service\nReflections from Montina and the campaign team\nA night of gratitude\, laughter\, and connection\nOptional photo opportunities with Montina\n\nCome for the pizza — stay for the people\, the purpose\, and the progress we’ve made together. Celebrate with Montina and friends as we finish strong and keep Building a Better McDonough\, Together. 🌺 \nLet’s finish strong\, McDonough. \nLet’s keep building a Better McDonough\, together. 🌺
URL:https://www.montinaformcdonough.com/event/%f0%9f%8d%95-final-pizza-party-election-night-celebration-at-davincis-2/
LOCATION:DaVinci’s Pizza\, 1035 GA-155 S\, McDonough\, GA\, 30253\, United States
ATTACH;FMTTYPE=image/jpeg:https://www.montinaformcdonough.com/wp-content/uploads/2025/11/IMG_6048-scaled.jpg
END:VEVENT
END:VCALENDAR