BEGIN:VCALENDAR
VERSION:2.0
PRODID:-//Montina for McDonough | Montina Young Fraiser, Your Neighbor - ECPv6.15.0//NONSGML v1.0//EN
CALSCALE:GREGORIAN
METHOD:PUBLISH
X-ORIGINAL-URL:https://www.montinaformcdonough.com
X-WR-CALDESC:Events for Montina for McDonough | Montina Young Fraiser, Your Neighbor
REFRESH-INTERVAL;VALUE=DURATION:PT1H
X-Robots-Tag:noindex
X-PUBLISHED-TTL:PT1H
BEGIN:VTIMEZONE
TZID:UTC
BEGIN:STANDARD
TZOFFSETFROM:+0000
TZOFFSETTO:+0000
TZNAME:UTC
DTSTART:20250101T000000
END:STANDARD
END:VTIMEZONE
BEGIN:VEVENT
DTSTART;VALUE=DATE:20251031
DTEND;VALUE=DATE:20251101
DTSTAMP:20260423T131344
CREATED:20251025T162318Z
LAST-MODIFIED:20251025T162318Z
UID:960-1761868800-1761955199@www.montinaformcdonough.com
SUMMARY:🎉 Early Voting Finale
DESCRIPTION:📅 Friday\, October 31 📍 McDonough\, GA \nIt’s the final day of early voting — and we’re celebrating community\, courage\, and civic pride! \nThis is more than a meetup — it’s a movement. Together\, we’re shaping McDonough’s future with hope\, heart\, and unity. ✨ \n\n🗳️ Early Voting Polling Locations\nYou can vote early at any of these Henry County polling sites before the deadline: \n\n\n\n\n\nPrecinct Name\nAddress\nFacility\n\n\n\n\nHeritage Park\n99 Lake Dow Road\nHeritage Park\n\n\nMerle Manders\n111 Davis Road\nMerle Manders Conference Center\n\n\nFortson\n61 McDonough Street\nFortson Library\n\n\nLocust Grove\n115 Martin Luther King Jr Blvd\nLocust Grove Library\n\n\nJ.P. Moseley\n1041 Millers Mill Road\nJ.P. Moseley Recreation Center\n\n\nFairview\n35 Austin Road\nFairview Recreation Center\n\n\n\n\n\n🗓️ Don’t wait — make your plan to vote early today and bring a friend! \n\nConnect with Montina Online!\nStay informed\, inspired\, and involved as we head toward Election Day: \n\n\nInstagram: @montinaformcdonough \n\n\nFacebook: Montina for McDonough \n\n\nYouTube: Montina for McDonough Channel \n\n\n\n💬 Join the Conversation\nPost your early voting photos\, tag #MontinaForMcDonough and #MontinaYoungFraiser\, and share why you voted for a stronger\, more united McDonough! \nYour vote matters. Your voice matters. Together\, we win! 💪 \n#MontinaForMcDonough #MontinaYoungFraiser #McDonoughVotes #LocalElectionsMatter #TeamMontina #BuildingABetterMcDonoughTogether
URL:https://www.montinaformcdonough.com/event/%f0%9f%8e%89-early-voting-finale/
LOCATION:McDonough Square\, 5 Griffin Street\, McDonough\, GA\, 30253\, United States
ATTACH;FMTTYPE=image/png:https://www.montinaformcdonough.com/wp-content/uploads/2025/10/Early-Voter-Badge-e1760345622434.png
END:VEVENT
BEGIN:VEVENT
DTSTART;TZID=UTC:20251031T090000
DTEND;TZID=UTC:20251031T190000
DTSTAMP:20260423T131344
CREATED:20251028T231449Z
LAST-MODIFIED:20251028T231449Z
UID:968-1761901200-1761937200@www.montinaformcdonough.com
SUMMARY:Wave for Montina! Volunteer for 1 Hour at the Polls - Merle Manders
DESCRIPTION:Join Team Montina as we bring energy\, unity\, and excitement to the polls!\n\n\n\n\nEvent Summary:\nLet’s make history together\, one wave at a time! Join Team Montina as we bring energy\, unity\, and excitement to the polls! 🙌🏾 \nTeam Montina is calling all supporters to volunteer for just ONE hour at polling locations across Henry County during Early Voting and Election Day. It only takes 1 hour — but your impact lasts far beyond Election Day. \nYour mission is simple — bring your smile\, your energy\, and your love for our community as we wave signs\, cheer voters on\, and spread positive energy for Montina Young Fraiser for McDonough City Council At-Large! \nWhat You’ll Do:\n✅ Wave campaign signs with pride\n✅ Encourage voters to head inside and cast their ballots\n✅ Be part of an uplifting\, positive team representing change \nWhen & Where:\nWe’ll be at multiple polling locations across Henry County during Early Voting and Election Day.\nChoose a time slot that works best for you when you register — locations include: \n\nHeritage Park (99 Lake Dow Road)\nMerle Manders Conference Center (111 Davis Road)\n\n🙌🏾 Your Impact: \nWhen voters see our presence\, they feel the momentum. When they see you\, they see hope\, community\, and action. Let’s finish strong and make history together! \nEvery smile says\, “Your vote matters.” \n🗓️ Sign up now for your preferred 1-hour shift! \nhttps://www.eventbrite.com/e/wave-for-montina-volunteer-for-1-hour-at-the-polls-merle-manders-tickets-1908361423389?aff=ebdsshcopyurl&utm-campaign=social&utm-content=attendeeshare&utm-medium=discovery&utm-term=listing&utm-source=cp \n👉🏾 Bring your friends\, your smile\, and your TeamMontina spirit! \n📸 Don’t forget to tag your photos and stories! \n#MontinaForMcDonough #VoteMontina #TeamMontina #CommunityStrong #LetsBuildABetter McDonoughTogether \n📸 IG: @MontinaForMcDonough\n📘 FB: Montina for McDonough\n🎥 YT: Montina for McDonough
URL:https://www.montinaformcdonough.com/event/wave-for-montina-volunteer-for-1-hour-at-the-polls-merle-manders-2/
LOCATION:Merle Manders\, 111 Davis Road\, Stockbridge\, 30281\, United States
ATTACH;FMTTYPE=image/jpeg:https://www.montinaformcdonough.com/wp-content/uploads/2025/10/IMG_3092-scaled.jpg
END:VEVENT
BEGIN:VEVENT
DTSTART;TZID=UTC:20251031T090000
DTEND;TZID=UTC:20251031T190000
DTSTAMP:20260423T131344
CREATED:20251028T233446Z
LAST-MODIFIED:20251028T233446Z
UID:972-1761901200-1761937200@www.montinaformcdonough.com
SUMMARY:Wave for Montina at Heritage Park! Volunteer for 1 Hour at the Polls!
DESCRIPTION:Join Team Montina as we bring energy\, unity\, and excitement to the polls!\n\n\n\n\nEvent Summary:\nLet’s make history together\, one wave at a time! Join Team Montina as we bring energy\, unity\, and excitement to the polls! 🙌🏾 \nTeam Montina is calling all supporters to volunteer for just ONE hour at polling locations across Henry County during Early Voting and Election Day. It only takes 1 hour — but your impact lasts far beyond Election Day. \nYour mission is simple — bring your smile\, your energy\, and your love for our community as we wave signs\, cheer voters on\, and spread positive energy for Montina Young Fraiser for McDonough City Council At-Large! \nWhat You’ll Do:\n✅ Wave campaign signs with pride\n✅ Encourage voters to head inside and cast their ballots\n✅ Be part of an uplifting\, positive team representing change \nWhen & Where:\nWe’ll be at multiple polling locations across Henry County during Early Voting and Election Day.\nChoose a time slot that works best for you when you register — locations include: \n\nHeritage Park (99 Lake Dow Road)\nMerle Manders Conference Center (111 Davis Road)\n\n🙌🏾 Your Impact: \nWhen voters see our presence\, they feel the momentum. When they see you\, they see hope\, community\, and action. Let’s finish strong and make history together! \nEvery smile says\, “Your vote matters.” \n🗓️ Sign up now for your preferred 1-hour shift! \nhttps://www.eventbrite.com/e/wave-for-montina-volunteer-for-1-hour-at-the-polls-merle-manders-tickets-1908361423389?aff=ebdsshcopyurl&utm-campaign=social&utm-content=attendeeshare&utm-medium=discovery&utm-term=listing&utm-source=cp \n👉🏾 Bring your friends\, your smile\, and your TeamMontina spirit! \n📸 Don’t forget to tag your photos and stories! \n#MontinaForMcDonough #VoteMontina #TeamMontina #CommunityStrong #LetsBuildABetter McDonoughTogether \n📸 IG: @MontinaForMcDonough\n📘 FB: Montina for McDonough\n🎥 YT: Montina for McDonough
URL:https://www.montinaformcdonough.com/event/wave-for-montina-at-heritage-park-volunteer-for-1-hour-at-the-polls-2/
LOCATION:Heritage Park\, 99 Lake Dow Road\, McDonough\, GA\, 30253\, United States
ATTACH;FMTTYPE=image/jpeg:https://www.montinaformcdonough.com/wp-content/uploads/2025/10/IMG_3139-scaled.jpg
END:VEVENT
BEGIN:VEVENT
DTSTART;TZID=UTC:20251031T130000
DTEND;TZID=UTC:20251031T170000
DTSTAMP:20260423T131344
CREATED:20251031T150320Z
LAST-MODIFIED:20251031T150320Z
UID:988-1761915600-1761930000@www.montinaformcdonough.com
SUMMARY:Trick or Treat on the Square 👻
DESCRIPTION:Trick or Treat on the Square 👻Date: Thursday\, October 31\, 2025 | 1:00 PM – 5:00 PMLocation: McDonough Square \nDescription:Get ready for a spooktacular time in the heart of McDonough! Bring your family to Trick or Treat on the Square from 3 PM to 5 PM today! \nThere will be tons of candy\, smiling faces\, and festive fun for the whole family. Let’s celebrate Halloween together in true community spirit — full of laughter\, costumes\, and sweet treats! \n🎃 Come early\, bring a bag for treats\, and enjoy the fun downtown energy! \n#MontinaForMcDonough #MontinaYoungFraiser📸 Don’t forget to tag us on social media!👉 Instagram👉 Facebook👉 YouTube
URL:https://www.montinaformcdonough.com/event/trick-or-treat-on-the-square-%f0%9f%91%bb/
LOCATION:McDonough Square\, 5 Griffin Street\, McDonough\, GA\, 30253\, United States
ATTACH;FMTTYPE=image/jpeg:https://www.montinaformcdonough.com/wp-content/uploads/2025/10/halloween-square.jpg
END:VEVENT
END:VCALENDAR