BEGIN:VCALENDAR
VERSION:2.0
PRODID:-//Montina for McDonough | Montina Young Fraiser, Your Neighbor - ECPv6.15.0//NONSGML v1.0//EN
CALSCALE:GREGORIAN
METHOD:PUBLISH
X-WR-CALNAME:Montina for McDonough | Montina Young Fraiser, Your Neighbor
X-ORIGINAL-URL:https://www.montinaformcdonough.com
X-WR-CALDESC:Events for Montina for McDonough | Montina Young Fraiser, Your Neighbor
REFRESH-INTERVAL;VALUE=DURATION:PT1H
X-Robots-Tag:noindex
X-PUBLISHED-TTL:PT1H
BEGIN:VTIMEZONE
TZID:UTC
BEGIN:STANDARD
TZOFFSETFROM:+0000
TZOFFSETTO:+0000
TZNAME:UTC
DTSTART:20250101T000000
END:STANDARD
END:VTIMEZONE
BEGIN:VEVENT
DTSTART;TZID=UTC:20250917T183000
DTEND;TZID=UTC:20250917T200000
DTSTAMP:20260422T182402
CREATED:20250914T231223Z
LAST-MODIFIED:20250914T231223Z
UID:528-1758133800-1758139200@www.montinaformcdonough.com
SUMMARY:Walk the Block Wednesdays with Montina For McDonough Team
DESCRIPTION:Join us for Walk the Block Wednesday at Avalon Park! Meet between 6:30–7:00 PM to pick up a T-shirt\, palm cards\, and water. We’ll start our neighborhood walk at 7:00 PM and meet back at 8:00 PM. A simple\, fun way to connect with neighbors and build a better McDonough\, together! 🌺
URL:https://www.montinaformcdonough.com/event/walk-the-block-wednesdays-with-montina-for-mcdonough-team/
LOCATION:Avalon Park\, 1068 Industrial Pkwy\, McDonough\, GA\, 30253\, United States
CATEGORIES:Local Ambassadors
ATTACH;FMTTYPE=image/jpeg:https://www.montinaformcdonough.com/wp-content/uploads/2025/09/IMG_3521-scaled-e1757891536309.jpg
ORGANIZER;CN="Terri Allen":MAILTO:terri@montinaformcdonough.com
END:VEVENT
BEGIN:VEVENT
DTSTART;TZID=UTC:20250908T120000
DTEND;TZID=UTC:20250908T123000
DTSTAMP:20260422T182402
CREATED:20250828T170714Z
LAST-MODIFIED:20250828T170714Z
UID:472-1757332800-1757334600@www.montinaformcdonough.com
SUMMARY:Volunteer Training (Virtual)
DESCRIPTION:Join us online for a convenient\, interactive volunteer training session where you’ll learn everything you need to support the campaign. This training will equip you with the tools to make a real impact.
URL:https://www.montinaformcdonough.com/event/volunteer-training-virtual-2/
LOCATION:GA
ATTACH;FMTTYPE=image/jpeg:https://www.montinaformcdonough.com/wp-content/uploads/2025/08/IMG_2500-scaled.jpg
END:VEVENT
BEGIN:VEVENT
DTSTART;TZID=UTC:20250902T093000
DTEND;TZID=UTC:20250902T100000
DTSTAMP:20260422T182402
CREATED:20250828T171203Z
LAST-MODIFIED:20250828T171203Z
UID:473-1756805400-1756807200@www.montinaformcdonough.com
SUMMARY:Volunteer Training (In-person)
DESCRIPTION:Get connected and energized at our in-person volunteer training! You’ll meet fellow supporters\, learn how to knock doors\, greet voters at events\, and represent the campaign in our local community. No experience needed.
URL:https://www.montinaformcdonough.com/event/volunteer-training-in-person-2/
LOCATION:Sleek CoWork & Media Studio\, 41 Griffin St\, McDonough\, GA\, United States
ATTACH;FMTTYPE=image/jpeg:https://www.montinaformcdonough.com/wp-content/uploads/2025/08/IMG_2447-scaled.jpg
END:VEVENT
BEGIN:VEVENT
DTSTART;TZID=UTC:20250831T140000
DTEND;TZID=UTC:20250831T160000
DTSTAMP:20260422T182402
CREATED:20250828T165924Z
LAST-MODIFIED:20250828T165924Z
UID:469-1756648800-1756656000@www.montinaformcdonough.com
SUMMARY:Pick Up a "Montina For McDonough" Yard Sign
DESCRIPTION:Show your support in a visible way by picking up a yard sign. It’s the perfect time to grab your sign\, say hello\, and share what matters most to you because every voice counts\, and every sign helps spread the message.
URL:https://www.montinaformcdonough.com/event/pick-up-a-montina-for-mcdonough-yard-sign/
LOCATION:John Alexander Park\, Avalon Park\, 1068 Industrial Parkway\, McDonough\, 30253\, United States
ATTACH;FMTTYPE=image/png:https://www.montinaformcdonough.com/wp-content/uploads/2025/08/Yard-sign-02-scaled.png
END:VEVENT
BEGIN:VEVENT
DTSTART;TZID=UTC:20250831T120000
DTEND;TZID=UTC:20250831T193000
DTSTAMP:20260422T182402
CREATED:20250828T163310Z
LAST-MODIFIED:20250828T163310Z
UID:462-1756641600-1756668600@www.montinaformcdonough.com
SUMMARY:McDonough Family & Friends Day
DESCRIPTION:Join neighbors and friends for an afternoon of community\, connection\, and celebration at McDonough Family & Friends Day. This year’s theme is Hawaiian—come ready for fun\, food\, and fellowship! \n\nFree Parking\nFree Entry\nFamily-Friendly\n\nMontina for McDonough Booth:Stop by and say hello! If you’ve signed up to support the campaign\, this is the perfect time to pick up your Montina for McDonough T-shirt 👕 and learn more about how we’re building a better McDonough\, together. \nNote: This is not a Montina for McDonough sponsored event. We’re simply sharing so more residents can stay informed and connected.
URL:https://www.montinaformcdonough.com/event/mcdonough-family-friends-day/
LOCATION:John Alexander Park\, Avalon Park\, 1068 Industrial Parkway\, McDonough\, 30253\, United States
ATTACH;FMTTYPE=image/jpeg:https://www.montinaformcdonough.com/wp-content/uploads/2025/08/IMG_2522.jpg
END:VEVENT
BEGIN:VEVENT
DTSTART;VALUE=DATE:20250827
DTEND;VALUE=DATE:20250828
DTSTAMP:20260422T182402
CREATED:20250826T072227Z
LAST-MODIFIED:20250826T072316Z
UID:406-1756252800-1756339199@www.montinaformcdonough.com
SUMMARY:Volunteer Training (Virtual)
DESCRIPTION:Join us online for a convenient\, interactive volunteer training session where you’ll learn everything you need to support the campaign. This training will equip you with the tools to make a real impact.*coming soon*
URL:https://www.montinaformcdonough.com/event/volunteer-training-virtual/
LOCATION:GA
END:VEVENT
BEGIN:VEVENT
DTSTART;VALUE=DATE:20250826
DTEND;VALUE=DATE:20250827
DTSTAMP:20260422T182402
CREATED:20250826T072741Z
LAST-MODIFIED:20250826T072741Z
UID:408-1756166400-1756252799@www.montinaformcdonough.com
SUMMARY:Build With Us: WEBMyers Subcontractor Meet & Learn
DESCRIPTION:WEBMyers Construction
URL:https://www.montinaformcdonough.com/event/build-with-us-webmyers-subcontractor-meet-learn/
LOCATION:GA
END:VEVENT
BEGIN:VEVENT
DTSTART;VALUE=DATE:20250826
DTEND;VALUE=DATE:20250827
DTSTAMP:20260422T182402
CREATED:20250826T055853Z
LAST-MODIFIED:20250826T071317Z
UID:405-1756166400-1756252799@www.montinaformcdonough.com
SUMMARY:Volunteer Training (In-person)
DESCRIPTION:Get connected and energized at our in-person volunteer training! You’ll meet fellow supporters\, learn how to knock doors\, greet voters at events\, and represent the campaign in our local community. No experience needed. *coming soon*
URL:https://www.montinaformcdonough.com/event/volunteer-training-in-person/
LOCATION:GA
END:VEVENT
END:VCALENDAR