BEGIN:VCALENDAR
VERSION:2.0
PRODID:-//Montina for McDonough | Montina Young Fraiser, Your Neighbor - ECPv6.15.0//NONSGML v1.0//EN
CALSCALE:GREGORIAN
METHOD:PUBLISH
X-WR-CALNAME:Montina for McDonough | Montina Young Fraiser, Your Neighbor
X-ORIGINAL-URL:https://www.montinaformcdonough.com
X-WR-CALDESC:Events for Montina for McDonough | Montina Young Fraiser, Your Neighbor
REFRESH-INTERVAL;VALUE=DURATION:PT1H
X-Robots-Tag:noindex
X-PUBLISHED-TTL:PT1H
BEGIN:VTIMEZONE
TZID:UTC
BEGIN:STANDARD
TZOFFSETFROM:+0000
TZOFFSETTO:+0000
TZNAME:UTC
DTSTART:20250101T000000
END:STANDARD
END:VTIMEZONE
BEGIN:VEVENT
DTSTART;TZID=UTC:20251124T120000
DTEND;TZID=UTC:20251124T123000
DTSTAMP:20260420T140944
CREATED:20251030T211326Z
LAST-MODIFIED:20251124T153210Z
UID:987-1763985600-1763987400@www.montinaformcdonough.com
SUMMARY:McDonough Matters with Montina
DESCRIPTION:This virtual series provides updates on key issues and community initiatives. Every month on the Last Monday \nMcDonough Matters with Montina is a monthly virtual series where citizens can ask questions\, engage in open discussions\, and connect with me directly—without the need for one-on-one appointments. This informal Zoom gathering is all about increasing civic engagement\, fostering transparency\, and making sure your voice is heard. There’s no set agenda or presentation—just an open conversation about what matters most to McDonough.
URL:https://www.montinaformcdonough.com/event/mcdonough-matters-with-montina-3/
LOCATION:ZOOM\, https://us02web.zoom.us/webinar/register/WN_yBWX5YIDSYqBOdnozF1tTw?fbclid=IwY2xjawNos-xleHRuA2FlbQIxMABicmlkETFVTWlmaDZjUFVyNnRXcjdMAR41lLqYYtSySHnHHe9TFgad4t3xzBFLyvTG6PRcCn4NSt7qgdks6uAcE6XTsA_aem_rR-okc6HMpX1LnkMDslzSw#/registration\, McDonough\, GA\, 30253\, United States
CATEGORIES:Virtual Event
END:VEVENT
END:VCALENDAR