BEGIN:VCALENDAR
VERSION:2.0
PRODID:-//Montina for McDonough | Montina Young Fraiser, Your Neighbor - ECPv6.15.0//NONSGML v1.0//EN
CALSCALE:GREGORIAN
METHOD:PUBLISH
X-ORIGINAL-URL:https://www.montinaformcdonough.com
X-WR-CALDESC:Events for Montina for McDonough | Montina Young Fraiser, Your Neighbor
REFRESH-INTERVAL;VALUE=DURATION:PT1H
X-Robots-Tag:noindex
X-PUBLISHED-TTL:PT1H
BEGIN:VTIMEZONE
TZID:UTC
BEGIN:STANDARD
TZOFFSETFROM:+0000
TZOFFSETTO:+0000
TZNAME:UTC
DTSTART:20250101T000000
END:STANDARD
END:VTIMEZONE
BEGIN:VEVENT
DTSTART;TZID=UTC:20251018T090000
DTEND;TZID=UTC:20251018T103000
DTSTAMP:20260422T090524
CREATED:20251007T185816Z
LAST-MODIFIED:20251010T181704Z
UID:645-1760778000-1760783400@www.montinaformcdonough.com
SUMMARY:Women Leading — A Forum on Leadership\, Local Government\, and Legacy
DESCRIPTION:Date: Saturday\, October 18\, 2025Time: 9:00 AM – 10:30 AMLocation: Henry County Administration Building📍 140 Henry Parkway Connector\, McDonough\, GA 30253 \nDescription: \nJoin us for a dynamic discussion on women’s leadership in local government and leaving a lasting legacy \nJoin us at the Henry County Administration Building for an empowering event focused on women in leadership roles. This forum will feature inspiring speakers discussing topics such as leadership\, local government\, and leaving a lasting legacy. Don’t miss this chance to connect with like-minded individuals and gain valuable insights into how you can make a positive impact in your community. \nFeatured Speakers \n\nCEO Lorraine Cochran-Johnson – DeKalb County\nChairwoman Carlotta Harrell – Henry County\n\nModerator\n\nElizabeth Wilson – Executive Director\, Georgia Micro Enterprise Network (GMEN)\n\nProgram Highlights\n\nFireside Conversation with CEO Lorraine Cochran-Johnson\nLeadership Forum & Panel Discussion\nQ&A + Legacy Call to Action\n\n🎟 Free Event | Limited Seating | RSVP RequiredReserve your seat early and be part of this powerful discussion on how women’s leadership continues to strengthen our communities. \nRSVP
URL:https://www.montinaformcdonough.com/event/women-leading-a-forum-on-leadership-local-government-and-legacy/
LOCATION:Henry County Administration Building\, 140 Henry Parkway Connector\, McDonough\, GA\, 30253\, United States
ATTACH;FMTTYPE=image/jpeg:https://www.montinaformcdonough.com/wp-content/uploads/2025/10/Womens-Fireside-chat-scaled-e1760120128238.jpg
END:VEVENT
END:VCALENDAR