BEGIN:VCALENDAR
VERSION:2.0
PRODID:-//Montina for McDonough | Montina Young Fraiser, Your Neighbor - ECPv6.15.0//NONSGML v1.0//EN
CALSCALE:GREGORIAN
METHOD:PUBLISH
X-WR-CALNAME:Montina for McDonough | Montina Young Fraiser, Your Neighbor
X-ORIGINAL-URL:https://www.montinaformcdonough.com
X-WR-CALDESC:Events for Montina for McDonough | Montina Young Fraiser, Your Neighbor
REFRESH-INTERVAL;VALUE=DURATION:PT1H
X-Robots-Tag:noindex
X-PUBLISHED-TTL:PT1H
BEGIN:VTIMEZONE
TZID:UTC
BEGIN:STANDARD
TZOFFSETFROM:+0000
TZOFFSETTO:+0000
TZNAME:UTC
DTSTART:20250101T000000
END:STANDARD
END:VTIMEZONE
BEGIN:VEVENT
DTSTART;TZID=UTC:20251003T120000
DTEND;TZID=UTC:20251003T130000
DTSTAMP:20260420T140817
CREATED:20250930T011720Z
LAST-MODIFIED:20250930T011720Z
UID:608-1759492800-1759496400@www.montinaformcdonough.com
SUMMARY:McDonough 101
DESCRIPTION:Date: Friday\, October 3\, 2025 \nTime: 12:00 PM – 1:00 PM \nLocation: Sleek CoWork Space\, 41 Griffin St\, McDonough\, GA 30253 (Virtual option available) \nEvent Description: \nLearn about McDonough’s history\, current challenges\, and opportunities for growth! This educational session is perfect for new residents and longtime neighbors alike. \nWhat You’ll Learn: \n\nMcDonough’s rich history and heritage\nCurrent issues facing our city\nOpportunities for community involvement\nMontina’s vision for McDonough’s future\n\nFormat: In-person at Sleek CoWork Space with virtual attendance option available. \nVirtual link will be sent to registered attendees. \nRSVP: Call or text 470-875-2141 to register and receive virtual link
URL:https://www.montinaformcdonough.com/event/mcdonough-101/
LOCATION:Sleek CoWork & Media Studio\, 41 Griffin St\, McDonough\, GA\, United States
ATTACH;FMTTYPE=image/jpeg:https://www.montinaformcdonough.com/wp-content/uploads/2025/09/MYF-MCD101.jpg
END:VEVENT
END:VCALENDAR