BEGIN:VCALENDAR
VERSION:2.0
PRODID:-//Montina for McDonough | Montina Young Fraiser, Your Neighbor - ECPv6.15.0//NONSGML v1.0//EN
CALSCALE:GREGORIAN
METHOD:PUBLISH
X-ORIGINAL-URL:https://www.montinaformcdonough.com
X-WR-CALDESC:Events for Montina for McDonough | Montina Young Fraiser, Your Neighbor
REFRESH-INTERVAL;VALUE=DURATION:PT1H
X-Robots-Tag:noindex
X-PUBLISHED-TTL:PT1H
BEGIN:VTIMEZONE
TZID:UTC
BEGIN:STANDARD
TZOFFSETFROM:+0000
TZOFFSETTO:+0000
TZNAME:UTC
DTSTART:20250101T000000
END:STANDARD
END:VTIMEZONE
BEGIN:VEVENT
DTSTART;VALUE=DATE:20250929
DTEND;VALUE=DATE:20250930
DTSTAMP:20260422T133430
CREATED:20250826T103225Z
LAST-MODIFIED:20250826T103543Z
UID:425-1759104000-1759190399@www.montinaformcdonough.com
SUMMARY:McDonough Matters with Montina
DESCRIPTION:This virtual series provides updates on key issues and community initiatives.
URL:https://www.montinaformcdonough.com/event/mcdonough-matters-with-montina/
END:VEVENT
BEGIN:VEVENT
DTSTART;VALUE=DATE:20250929
DTEND;VALUE=DATE:20250930
DTSTAMP:20260422T133430
CREATED:20250826T103404Z
LAST-MODIFIED:20250826T111107Z
UID:426-1759104000-1759190399@www.montinaformcdonough.com
SUMMARY:Connecting with Montina One-on-One
DESCRIPTION:To make connecting easier and more efficient\, I’ve set up a dedicated Zoom scheduling link where you can book time directly with me.
URL:https://www.montinaformcdonough.com/event/connecting-with-montina-one-on-one-5/
END:VEVENT
BEGIN:VEVENT
DTSTART;TZID=UTC:20250929T100000
DTEND;TZID=UTC:20250929T170000
DTSTAMP:20260422T133430
CREATED:20250929T195135Z
LAST-MODIFIED:20250929T195135Z
UID:577-1759140000-1759165200@www.montinaformcdonough.com
SUMMARY:Chat with Montina (in person)
DESCRIPTION:Date: Monday\, September 30\, 2025 \nTime: All Day (Drop in anytime) \nLocation: Sleek CoWork Space \n41 Griffin St\, McDonough\, GA 30253 \nEvent Description: \nWant to have a one-on-one conversation with Montina? Stop by Sleek CoWork Space throughout the day to discuss your ideas\, concerns\, and vision for McDonough! \nThis is your chance to meet with Montina personally\, share what matters most to you\, and be part of building a better McDonough together. \nNo appointment necessary – just drop by when it’s convenient for you!
URL:https://www.montinaformcdonough.com/event/chat-with-montina-in-person/
LOCATION:Sleek CoWork & Media Studio\, 41 Griffin St\, McDonough\, GA\, United States
ATTACH;FMTTYPE=image/jpeg:https://www.montinaformcdonough.com/wp-content/uploads/2025/09/MYF-Casual.jpg
END:VEVENT
BEGIN:VEVENT
DTSTART;TZID=UTC:20250929T110000
DTEND;TZID=UTC:20250929T110000
DTSTAMP:20260422T133430
CREATED:20250826T073254Z
LAST-MODIFIED:20250826T111056Z
UID:410-1759143600-1759143600@www.montinaformcdonough.com
SUMMARY:Connecting with Montina One-on-One
DESCRIPTION:To make connecting easier and more efficient\, I’ve set up a dedicated Zoom scheduling link where you can book time directly with me. Every month on the Last Monday
URL:https://www.montinaformcdonough.com/event/connecting-with-montina-one-on-one/
END:VEVENT
BEGIN:VEVENT
DTSTART;TZID=UTC:20250929T120000
DTEND;TZID=UTC:20250929T130000
DTSTAMP:20260422T133430
CREATED:20250828T164724Z
LAST-MODIFIED:20250828T164724Z
UID:467-1759147200-1759150800@www.montinaformcdonough.com
SUMMARY:McDonough Matters with Montina
DESCRIPTION:This virtual series provides updates on key issues and community initiatives. Every month on the Last Monday \nMcDonough Matters with Montina is a monthly virtual series where citizens can ask questions\, engage in open discussions\, and connect with me directly—without the need for one-on-one appointments. This informal Zoom gathering is all about increasing civic engagement\, fostering transparency\, and making sure your voice is heard. There’s no set agenda or presentation—just an open conversation about what matters most to McDonough.
URL:https://www.montinaformcdonough.com/event/mcdonough-matters-with-montina-5/
ATTACH;FMTTYPE=image/jpeg:https://www.montinaformcdonough.com/wp-content/uploads/2025/08/Modern-Campaign-Billboard-Design.jpg
END:VEVENT
END:VCALENDAR