BEGIN:VCALENDAR
VERSION:2.0
PRODID:-//Montina for McDonough | Montina Young Fraiser, Your Neighbor - ECPv6.15.0//NONSGML v1.0//EN
CALSCALE:GREGORIAN
METHOD:PUBLISH
X-ORIGINAL-URL:https://www.montinaformcdonough.com
X-WR-CALDESC:Events for Montina for McDonough | Montina Young Fraiser, Your Neighbor
REFRESH-INTERVAL;VALUE=DURATION:PT1H
X-Robots-Tag:noindex
X-PUBLISHED-TTL:PT1H
BEGIN:VTIMEZONE
TZID:UTC
BEGIN:STANDARD
TZOFFSETFROM:+0000
TZOFFSETTO:+0000
TZNAME:UTC
DTSTART:20250101T000000
END:STANDARD
END:VTIMEZONE
BEGIN:VEVENT
DTSTART;TZID=UTC:20250927T100000
DTEND;TZID=UTC:20250927T120000
DTSTAMP:20260424T200347
CREATED:20250926T152642Z
LAST-MODIFIED:20250926T152642Z
UID:573-1758967200-1758974400@www.montinaformcdonough.com
SUMMARY:Meet Montina at the McDonough Housing Authority
DESCRIPTION:Meet us at the McDonough Housing Authority \nEvent Details: \nDate: Saturday\, September 27\, 2025 \nTime: 10:00 AM \nLocation: 345 Simpson Street\, McDonough\, GA 30253 \nMontina will be meeting directly with residents for a community conversation focused on unity\, connection\, and building a stronger McDonough together. This is a chance to be heard\, share ideas\, and talk openly about the future of our neighborhoods. McDonough residents are encouraged to come out\, ask questions\, and take part in shaping the community we all love.
URL:https://www.montinaformcdonough.com/event/meet-montina-at-the-mcdonough-housing-authority/
LOCATION:McDonough Housing Authority\, 345 Simpson Street\, McDonough\, GA\, 30253\, United States
ATTACH;FMTTYPE=image/jpeg:https://www.montinaformcdonough.com/wp-content/uploads/2025/08/welcome-photo-scaled.jpg
END:VEVENT
END:VCALENDAR